BEGIN:VCALENDAR
VERSION:2.0
CALSCALE:GREGORIAN
PRODID:-//Diputació de Barcelona//DibaCMS//EN
BEGIN:VEVENT
UID:4817
DTSTAMP:20260420T002318
DTSTART:20191126T210500
DTEND:20191126T220000
SUMMARY:Avui nou Audiciona't amb els Dr. Jazz Friends
LOCATION:
METHOD:PUBLISH
X-WR-CALNAME:capellades@capellades.cat
X-WR-TIMEZONE:Europe/Madrid
DESCRIPTION:Avui continua la tercera edició de la Setmana de la Música.

URI:https://www.capellades.cat/actualitat/agenda/avui-nou-audicionat-amb-els-dr-jazz-friends.html
CLASS:PUBLIC
END:VEVENT
END:VCALENDAR
