BEGIN:VCALENDAR
VERSION:2.0
CALSCALE:GREGORIAN
PRODID:-//Diputació de Barcelona//DibaCMS//EN
BEGIN:VEVENT
UID:4814
DTSTAMP:20260420T075111
DTSTART:20191125T200000
DTEND:20191125T220000
SUMMARY:Actes del 25N a Capellades
LOCATION:
METHOD:PUBLISH
X-WR-CALNAME:capellades@capellades.cat
X-WR-TIMEZONE:Europe/Madrid
DESCRIPTION:Aquest dilluns vinent, 25 de novembre, es celebra el Dia Internacional contra la violència de gènere.

URI:https://www.capellades.cat/actualitat/agenda/actes-del-25n-a-capellades.html
CLASS:PUBLIC
END:VEVENT
END:VCALENDAR
