BEGIN:VCALENDAR
VERSION:2.0
CALSCALE:GREGORIAN
PRODID:-//Diputació de Barcelona//DibaCMS//EN
BEGIN:VEVENT
UID:4813
DTSTAMP:20260420T014310
DTSTART:20191125T180000
DTEND:20191126T180000
SUMMARY:2 noves trobades del Club de Lectura Petits Lectors
LOCATION:
METHOD:PUBLISH
X-WR-CALNAME:capellades@capellades.cat
X-WR-TIMEZONE:Europe/Madrid
DESCRIPTION:Aquest mes de novembre les trobades del Club de Lectura Petits Lectors són el dilluns 25 i el dimarts 26.

URI:https://www.capellades.cat/actualitat/agenda/2-noves-trobades-del-club-de-lectura-petits-lectors.html
CLASS:PUBLIC
END:VEVENT
END:VCALENDAR
