BEGIN:VCALENDAR
VERSION:2.0
CALSCALE:GREGORIAN
PRODID:-//Diputació de Barcelona//DibaCMS//EN
BEGIN:VEVENT
UID:4807
DTSTAMP:20260422T102457
DTSTART:20191124T130000
DTEND:20191124T150000
SUMMARY:Vermut swing amb Hop's Trio
LOCATION:
METHOD:PUBLISH
X-WR-CALNAME:capellades@capellades.cat
X-WR-TIMEZONE:Europe/Madrid
DESCRIPTION:Diumenge continuen els actes de la Setmana de la Música amb una actuació a ritme de swing.

URI:https://www.capellades.cat/actualitat/agenda/vermut-swing-amb-hops-trio.html
CLASS:PUBLIC
END:VEVENT
END:VCALENDAR
