BEGIN:VCALENDAR
VERSION:2.0
CALSCALE:GREGORIAN
PRODID:-//Diputació de Barcelona//DibaCMS//EN
BEGIN:VEVENT
UID:4805
DTSTAMP:20260419T232343
DTSTART:20191123T180000
DTEND:20191123T200000
SUMMARY:Cinema familiar amb Pack Màgic
LOCATION:
METHOD:PUBLISH
X-WR-CALNAME:capellades@capellades.cat
X-WR-TIMEZONE:Europe/Madrid
DESCRIPTION:"La increïble història de la pera gegant" és la proposta d'aquest dissabte a les 6 de la tarda, a la Sala Petita del Teatre La Lliga.

URI:https://www.capellades.cat/actualitat/agenda/cinema-familiar-amb-pack-magic.html
CLASS:PUBLIC
END:VEVENT
END:VCALENDAR
