BEGIN:VCALENDAR
VERSION:2.0
CALSCALE:GREGORIAN
PRODID:-//Diputació de Barcelona//DibaCMS//EN
BEGIN:VEVENT
UID:4804
DTSTAMP:20260419T151535
DTSTART:20191122T193000
DTEND:20191122T210000
SUMMARY:Lliga de Jocs al Saló Rosa
LOCATION:
METHOD:PUBLISH
X-WR-CALNAME:capellades@capellades.cat
X-WR-TIMEZONE:Europe/Madrid
DESCRIPTION:T'agraden els jocs de taula?

URI:https://www.capellades.cat/actualitat/agenda/lliga-de-jocs-al-salo-rosa.html
CLASS:PUBLIC
END:VEVENT
END:VCALENDAR
