BEGIN:VCALENDAR
VERSION:2.0
CALSCALE:GREGORIAN
PRODID:-//Diputació de Barcelona//DibaCMS//EN
BEGIN:VEVENT
UID:4803
DTSTAMP:20260419T232948
DTSTART:20191122T180000
DTEND:20191122T190000
SUMMARY:Berenar i Tastet Musical de Santa Cecília
LOCATION:
METHOD:PUBLISH
X-WR-CALNAME:capellades@capellades.cat
X-WR-TIMEZONE:Europe/Madrid
DESCRIPTION:Aquest divendres continuen els actes de la tercera edició de la Setmana de la Música.

URI:https://www.capellades.cat/actualitat/agenda/berenar-i-tastet-musical-de-santa-cecilia.html
CLASS:PUBLIC
END:VEVENT
END:VCALENDAR
