BEGIN:VCALENDAR
VERSION:2.0
CALSCALE:GREGORIAN
PRODID:-//Diputació de Barcelona//DibaCMS//EN
BEGIN:VEVENT
UID:4795
DTSTAMP:20260419T232725
DTSTART:20191121T180000
DTEND:20191121T190000
SUMMARY:Taller d'instruments musicals Low Cost
LOCATION:
METHOD:PUBLISH
X-WR-CALNAME:capellades@capellades.cat
X-WR-TIMEZONE:Europe/Madrid
DESCRIPTION:La Biblioteca El Safareig proposa un taller per aprendre a fer instruments musicals.

URI:https://www.capellades.cat/actualitat/agenda/taller-dinstruments-musicals-low-cost.html
CLASS:PUBLIC
END:VEVENT
END:VCALENDAR
