BEGIN:VCALENDAR
VERSION:2.0
CALSCALE:GREGORIAN
PRODID:-//Diputació de Barcelona//DibaCMS//EN
BEGIN:VEVENT
UID:4794
DTSTAMP:20260420T055159
DTSTART:20191121T100000
DTEND:20191121T120000
SUMMARY:Taller sobre com sona l'orgue
LOCATION:
METHOD:PUBLISH
X-WR-CALNAME:capellades@capellades.cat
X-WR-TIMEZONE:Europe/Madrid
DESCRIPTION:En Jonatan Carbó farà un taller sobre "Com sona l'orgue" per als alumnes de cicle inicial.

URI:https://www.capellades.cat/actualitat/agenda/taller-sobre-com-sona-lorgue.html
CLASS:PUBLIC
END:VEVENT
END:VCALENDAR
