BEGIN:VCALENDAR
VERSION:2.0
CALSCALE:GREGORIAN
PRODID:-//Diputació de Barcelona//DibaCMS//EN
BEGIN:VEVENT
UID:4793
DTSTAMP:20260420T055029
DTSTART:20191120T180000
DTEND:20191120T200000
SUMMARY:Taller "El Neolític" a la Biblioteca El Safareig
LOCATION:
METHOD:PUBLISH
X-WR-CALNAME:capellades@capellades.cat
X-WR-TIMEZONE:Europe/Madrid
DESCRIPTION:"El Neolític" és el títol i el tema d'aquest tercer taller sobre prehistòria.

URI:https://www.capellades.cat/actualitat/agenda/taller-el-neolitic-a-la-biblioteca-el-safareig.html
CLASS:PUBLIC
END:VEVENT
END:VCALENDAR
