BEGIN:VCALENDAR
VERSION:2.0
CALSCALE:GREGORIAN
PRODID:-//Diputació de Barcelona//DibaCMS//EN
BEGIN:VEVENT
UID:4791
DTSTAMP:20260419T165228
DTSTART:20191119T110000
DTEND:20191119T120000
SUMMARY:Comença el cicle "Anem al Teatre"
LOCATION:
METHOD:PUBLISH
X-WR-CALNAME:capellades@capellades.cat
X-WR-TIMEZONE:Europe/Madrid
DESCRIPTION:La formació vocal "In Crescendo" serà la primera proposta d'una nova edició de l'Anem al Teatre.

URI:https://www.capellades.cat/actualitat/agenda/comenca-el-cicle-anem-al-teatre.html
CLASS:PUBLIC
END:VEVENT
END:VCALENDAR
