BEGIN:VCALENDAR
VERSION:2.0
CALSCALE:GREGORIAN
PRODID:-//Diputació de Barcelona//DibaCMS//EN
BEGIN:VEVENT
UID:4787
DTSTAMP:20260419T232547
DTSTART:20191117T090000
DTEND:20191117T140000
SUMMARY:Caminant per la comarca
LOCATION:
METHOD:PUBLISH
X-WR-CALNAME:capellades@capellades.cat
X-WR-TIMEZONE:Europe/Madrid
DESCRIPTION:Nova sortida dels Caminant per la Comarca, aquest diumenge 17 de novembre.

URI:https://www.capellades.cat/actualitat/agenda/4787-caminant-per-la-comarca.html
CLASS:PUBLIC
END:VEVENT
END:VCALENDAR
