BEGIN:VCALENDAR
VERSION:2.0
CALSCALE:GREGORIAN
PRODID:-//Diputació de Barcelona//DibaCMS//EN
BEGIN:VEVENT
UID:4785
DTSTAMP:20260420T012802
DTSTART:20191115T210000
DTEND:20191115T235500
SUMMARY:Sopar 50è. aniversari Institut Molí de la Vila
LOCATION:
METHOD:PUBLISH
X-WR-CALNAME:capellades@capellades.cat
X-WR-TIMEZONE:Europe/Madrid
DESCRIPTION:Aquest divendres 15 de novembre es farà el sopar del 50è. aniversari de l'institut Molí de la Vila.

URI:https://www.capellades.cat/actualitat/agenda/sopar-50e-aniversari-institut-moli-de-la-vila.html
CLASS:PUBLIC
END:VEVENT
END:VCALENDAR
