BEGIN:VCALENDAR
VERSION:2.0
CALSCALE:GREGORIAN
PRODID:-//Diputació de Barcelona//DibaCMS//EN
BEGIN:VEVENT
UID:4778
DTSTAMP:20260420T002500
DTSTART:20191113T000000
DTEND:20191130T000000
SUMMARY:Agenda d'activitats de la Biblioteca El Safareig
LOCATION:
METHOD:PUBLISH
X-WR-CALNAME:capellades@capellades.cat
X-WR-TIMEZONE:Europe/Madrid
DESCRIPTION:Aquestes són les activitats previstes aquest mes a la Biblioteca El Safareig.

URI:https://www.capellades.cat/actualitat/agenda/agenda-dactivitats-de-la-biblioteca-el-safareig.html
CLASS:PUBLIC
END:VEVENT
END:VCALENDAR
