BEGIN:VCALENDAR
VERSION:2.0
CALSCALE:GREGORIAN
PRODID:-//Diputació de Barcelona//DibaCMS//EN
BEGIN:VEVENT
UID:4771
DTSTAMP:20260422T102719
DTSTART:20191110T180000
DTEND:20191110T200000
SUMMARY:Representació de l'obra "El Nom" a Sant Martí de Tous
LOCATION:
METHOD:PUBLISH
X-WR-CALNAME:capellades@capellades.cat
X-WR-TIMEZONE:Europe/Madrid
DESCRIPTION:
URI:https://www.capellades.cat/actualitat/agenda/representacio-de-lobra-el-nom-a-sant-marti-de-tous.html
CLASS:PUBLIC
END:VEVENT
END:VCALENDAR
