BEGIN:VCALENDAR
VERSION:2.0
CALSCALE:GREGORIAN
PRODID:-//Diputació de Barcelona//DibaCMS//EN
BEGIN:VEVENT
UID:4770
DTSTAMP:20260420T024405
DTSTART:20191110T100000
DTEND:20191110T140000
SUMMARY:Mercat d'Antiguitats
LOCATION:
METHOD:PUBLISH
X-WR-CALNAME:capellades@capellades.cat
X-WR-TIMEZONE:Europe/Madrid
DESCRIPTION:El segon diumenge de mes es fa a Capellades el Mercat d'Antiguitats.

URI:https://www.capellades.cat/actualitat/agenda/4770-mercat-dantiguitats.html
CLASS:PUBLIC
END:VEVENT
END:VCALENDAR
