BEGIN:VCALENDAR
VERSION:2.0
CALSCALE:GREGORIAN
PRODID:-//Diputació de Barcelona//DibaCMS//EN
BEGIN:VEVENT
UID:4768
DTSTAMP:20260420T062054
DTSTART:20191110T080000
DTEND:20191110T200000
SUMMARY:Aquest diumenge es celebren les Eleccions Generals 2019
LOCATION:
METHOD:PUBLISH
X-WR-CALNAME:capellades@capellades.cat
X-WR-TIMEZONE:Europe/Madrid
DESCRIPTION:Aquest diumenge es celebren les eleccions generals 2019.

URI:https://www.capellades.cat/actualitat/agenda/aquest-diumenge-es-celebren-les-eleccions-generals-2019.html
CLASS:PUBLIC
END:VEVENT
END:VCALENDAR
