BEGIN:VCALENDAR
VERSION:2.0
CALSCALE:GREGORIAN
PRODID:-//Diputació de Barcelona//DibaCMS//EN
BEGIN:VEVENT
UID:4767
DTSTAMP:20260419T180827
DTSTART:20191108T193000
DTEND:20191108T203000
SUMMARY:Acte de campanya amb Aleix Auber
LOCATION:
METHOD:PUBLISH
X-WR-CALNAME:capellades@capellades.cat
X-WR-TIMEZONE:Europe/Madrid
DESCRIPTION:Acte de campanya amb Aleix Auber.

URI:https://www.capellades.cat/actualitat/agenda/acte-de-campanya-amb-aleix-auber.html
CLASS:PUBLIC
END:VEVENT
END:VCALENDAR
