BEGIN:VCALENDAR
VERSION:2.0
CALSCALE:GREGORIAN
PRODID:-//Diputació de Barcelona//DibaCMS//EN
BEGIN:VEVENT
UID:4764
DTSTAMP:20260420T041743
DTSTART:20191108T193000
DTEND:20191108T210000
SUMMARY:¿Podrás perdonarme algún día?
LOCATION:
METHOD:PUBLISH
X-WR-CALNAME:capellades@capellades.cat
X-WR-TIMEZONE:Europe/Madrid
DESCRIPTION:Cinema a la Sala Petita del Teatre La Lliga, per divendres a dos quarts de 8 del vespre, amb entrada lliure.

URI:https://www.capellades.cat/actualitat/agenda/podras-perdonarme-algun-dia.html
CLASS:PUBLIC
END:VEVENT
END:VCALENDAR
