BEGIN:VCALENDAR
VERSION:2.0
CALSCALE:GREGORIAN
PRODID:-//Diputació de Barcelona//DibaCMS//EN
BEGIN:VEVENT
UID:4742
DTSTAMP:20260420T043525
DTSTART:20191031T190000
DTEND:20191031T210000
SUMMARY:Misteri a Casa Bas per als joves
LOCATION:
METHOD:PUBLISH
X-WR-CALNAME:capellades@capellades.cat
X-WR-TIMEZONE:Europe/Madrid
DESCRIPTION:Aquest any els joves de Capellades tenen una proposta per al 31 d’octubre: “Misteri a Casa Bas”.

URI:https://www.capellades.cat/actualitat/agenda/misteri-a-casa-bas-per-als-joves.html
CLASS:PUBLIC
END:VEVENT
END:VCALENDAR
