BEGIN:VCALENDAR
VERSION:2.0
CALSCALE:GREGORIAN
PRODID:-//Diputació de Barcelona//DibaCMS//EN
BEGIN:VEVENT
UID:4741
DTSTAMP:20260419T214215
DTSTART:20191031T173000
DTEND:20191031T190000
SUMMARY:Castanyada a Capellades
LOCATION:
METHOD:PUBLISH
X-WR-CALNAME:capellades@capellades.cat
X-WR-TIMEZONE:Europe/Madrid
DESCRIPTION:La Castanyada es celebrarà a Capellades amb una gran festa, el dijous 31 d'octubre.

URI:https://www.capellades.cat/actualitat/agenda/castanyada-a-capellades.html
CLASS:PUBLIC
END:VEVENT
END:VCALENDAR
