BEGIN:VCALENDAR
VERSION:2.0
CALSCALE:GREGORIAN
PRODID:-//Diputació de Barcelona//DibaCMS//EN
BEGIN:VEVENT
UID:4739
DTSTAMP:20260422T144250
DTSTART:20191026T103000
DTEND:20191026T130000
SUMMARY:Estudi fotogràfic amb model
LOCATION:
METHOD:PUBLISH
X-WR-CALNAME:capellades@capellades.cat
X-WR-TIMEZONE:Europe/Madrid
DESCRIPTION:L'Agrupació Fotogràfica Capellades proposa una nova activitat per als seus associats, aquest dissabte al matí.

URI:https://www.capellades.cat/actualitat/agenda/estudi-fotografic-amb-model.html
CLASS:PUBLIC
END:VEVENT
END:VCALENDAR
