BEGIN:VCALENDAR
VERSION:2.0
CALSCALE:GREGORIAN
PRODID:-//Diputació de Barcelona//DibaCMS//EN
BEGIN:VEVENT
UID:4738
DTSTAMP:20260422T102643
DTSTART:20191029T190000
DTEND:20191029T200000
SUMMARY:Videofòrum i debat sobre la salut mental
LOCATION:
METHOD:PUBLISH
X-WR-CALNAME:capellades@capellades.cat
X-WR-TIMEZONE:Europe/Madrid
DESCRIPTION:Per tancar el mes dedicat a la salut mental, la Biblioteca El Safareig proposa un vídeofòrum i un debat sobre la Salut Mental.

URI:https://www.capellades.cat/actualitat/agenda/videoforum-i-debat-sobre-la-salut-mental.html
CLASS:PUBLIC
END:VEVENT
END:VCALENDAR
