BEGIN:VCALENDAR
VERSION:2.0
CALSCALE:GREGORIAN
PRODID:-//Diputació de Barcelona//DibaCMS//EN
BEGIN:VEVENT
UID:4737
DTSTAMP:20260419T190532
DTSTART:20191026T190000
DTEND:20191026T200000
SUMMARY:Teatre de petit format amb Vides de gos
LOCATION:
METHOD:PUBLISH
X-WR-CALNAME:capellades@capellades.cat
X-WR-TIMEZONE:Europe/Madrid
DESCRIPTION:Aquest dissabte a les 7 de la tarda, a la sala petita del Teatre La Lliga.

URI:https://www.capellades.cat/actualitat/agenda/teatre-de-petit-format-amb-vides-de-gos.html
CLASS:PUBLIC
END:VEVENT
END:VCALENDAR
