BEGIN:VCALENDAR
VERSION:2.0
CALSCALE:GREGORIAN
PRODID:-//Diputació de Barcelona//DibaCMS//EN
BEGIN:VEVENT
UID:4735
DTSTAMP:20260420T062023
DTSTART:20191026T180000
DTEND:20191026T194500
SUMMARY:Vine a animar el teu equip
LOCATION:
METHOD:PUBLISH
X-WR-CALNAME:capellades@capellades.cat
X-WR-TIMEZONE:Europe/Madrid
DESCRIPTION:Vine a animar el teu equip de futbol sala aquest dissabte 26 d'octubre.

URI:https://www.capellades.cat/actualitat/agenda/4735-vine-a-animar-el-teu-equip.html
CLASS:PUBLIC
END:VEVENT
END:VCALENDAR
