BEGIN:VCALENDAR
VERSION:2.0
CALSCALE:GREGORIAN
PRODID:-//Diputació de Barcelona//DibaCMS//EN
BEGIN:VEVENT
UID:4727
DTSTAMP:20260419T173056
DTSTART:20191024T170000
DTEND:20191130T000000
SUMMARY:L'artista capelladí Jordi López-Alert exposa a la Galeria Artèria
LOCATION:
METHOD:PUBLISH
X-WR-CALNAME:capellades@capellades.cat
X-WR-TIMEZONE:Europe/Madrid
DESCRIPTION:"LLIBRES, CARTRONS, PLÀSTICS... (i una muntanya cremada)" és el títol de la mostra que ofereix l'artista capelladí Jordi López-Alert.

URI:https://www.capellades.cat/actualitat/agenda/lartista-capelladi-jordi-lopez-alert-exposa-a-la-galeria-arteria.html
CLASS:PUBLIC
END:VEVENT
END:VCALENDAR
