BEGIN:VCALENDAR
VERSION:2.0
CALSCALE:GREGORIAN
PRODID:-//Diputació de Barcelona//DibaCMS//EN
BEGIN:VEVENT
UID:4714
DTSTAMP:20260421T114948
DTSTART:20191020T110000
DTEND:20191020T120000
SUMMARY:Tastet d'entitats
LOCATION:
METHOD:PUBLISH
X-WR-CALNAME:capellades@capellades.cat
X-WR-TIMEZONE:Europe/Madrid
DESCRIPTION:Aquest any s’arriba ja a la quarta edició del Tastet d’Entitats, una proposta convocada des de Gegants i l’Ajuntament de Capellades.

URI:https://www.capellades.cat/actualitat/agenda/tastet-dentitats.html
CLASS:PUBLIC
END:VEVENT
END:VCALENDAR
