BEGIN:VCALENDAR
VERSION:2.0
CALSCALE:GREGORIAN
PRODID:-//Diputació de Barcelona//DibaCMS//EN
BEGIN:VEVENT
UID:4713
DTSTAMP:20260420T061054
DTSTART:20191019T073000
DTEND:20191019T200000
SUMMARY:Sortida de la Penya Blaugrana a Vichy
LOCATION:
METHOD:PUBLISH
X-WR-CALNAME:capellades@capellades.cat
X-WR-TIMEZONE:Europe/Madrid
DESCRIPTION:Aquest dissabte 19 d'octubre la Penya Blaugrana anirà d'excursió al Balneari de Vichy.

URI:https://www.capellades.cat/actualitat/agenda/sortida-de-la-penya-blaugrana-a-vichy.html
CLASS:PUBLIC
END:VEVENT
END:VCALENDAR
