BEGIN:VCALENDAR
VERSION:2.0
CALSCALE:GREGORIAN
PRODID:-//Diputació de Barcelona//DibaCMS//EN
BEGIN:VEVENT
UID:4702
DTSTAMP:20260422T003930
DTSTART:20191018T170000
DTEND:20191018T210000
SUMMARY:Es suspen l'acapte de sang d'aquest  divendres 
LOCATION:
METHOD:PUBLISH
X-WR-CALNAME:capellades@capellades.cat
X-WR-TIMEZONE:Europe/Madrid
DESCRIPTION:Finalment aquest divendres el Banc de Sang i Teixits NO tornarà a ser a Capellades per un nou acapte de sang. 

URI:https://www.capellades.cat/actualitat/agenda/es-suspen-lacapte-de-sang-daquest-divendres-.html
CLASS:PUBLIC
END:VEVENT
END:VCALENDAR
