BEGIN:VCALENDAR
VERSION:2.0
CALSCALE:GREGORIAN
PRODID:-//Diputació de Barcelona//DibaCMS//EN
BEGIN:VEVENT
UID:4693
DTSTAMP:20260420T035448
DTSTART:20191013T180000
DTEND:20191013T190000
SUMMARY:Xarxa presenta Dins la panxa del llop
LOCATION:
METHOD:PUBLISH
X-WR-CALNAME:capellades@capellades.cat
X-WR-TIMEZONE:Europe/Madrid
DESCRIPTION:Xarxa estrena temporada a Capellades amb "Dins la panxa del llop".

URI:https://www.capellades.cat/actualitat/agenda/xarxa-presenta-dins-la-panxa-del-llop.html
CLASS:PUBLIC
END:VEVENT
END:VCALENDAR
