BEGIN:VCALENDAR
VERSION:2.0
CALSCALE:GREGORIAN
PRODID:-//Diputació de Barcelona//DibaCMS//EN
BEGIN:VEVENT
UID:4692
DTSTAMP:20260420T000233
DTSTART:20191013T110000
DTEND:20191013T124500
SUMMARY:Jornades Europees del Patrimoni
LOCATION:
METHOD:PUBLISH
X-WR-CALNAME:capellades@capellades.cat
X-WR-TIMEZONE:Europe/Madrid
DESCRIPTION:Aquest diumenge Capellades se sumarà als actes que es fan arreu d'Europa.

URI:https://www.capellades.cat/actualitat/agenda/4692-jornades-europees-del-patrimoni.html
CLASS:PUBLIC
END:VEVENT
END:VCALENDAR
