BEGIN:VCALENDAR
VERSION:2.0
CALSCALE:GREGORIAN
PRODID:-//Diputació de Barcelona//DibaCMS//EN
BEGIN:VEVENT
UID:4689
DTSTAMP:20260419T201454
DTSTART:20191012T143000
DTEND:20191012T180000
SUMMARY:Dinar de germanor Virgen de la Cabeza
LOCATION:
METHOD:PUBLISH
X-WR-CALNAME:capellades@capellades.cat
X-WR-TIMEZONE:Europe/Madrid
DESCRIPTION:Dinar solidari a Cal Ponet organitzat pels Amics de la Virgen de la Cabeza.

URI:https://www.capellades.cat/actualitat/agenda/dinar-de-germanor-virgen-de-la-cabeza.html
CLASS:PUBLIC
END:VEVENT
END:VCALENDAR
