BEGIN:VCALENDAR
VERSION:2.0
CALSCALE:GREGORIAN
PRODID:-//Diputació de Barcelona//DibaCMS//EN
BEGIN:VEVENT
UID:4688
DTSTAMP:20260420T024313
DTSTART:20191010T193000
DTEND:20191010T203000
SUMMARY:Cicle de confitures a La Lliga
LOCATION:
METHOD:PUBLISH
X-WR-CALNAME:capellades@capellades.cat
X-WR-TIMEZONE:Europe/Madrid
DESCRIPTION:Avui dijous, a dos quarts de 8 del vespre, al Saló Rosa de La Lliga, xerrada sobre confitures.

URI:https://www.capellades.cat/actualitat/agenda/cicle-de-confitures-a-la-lliga.html
CLASS:PUBLIC
END:VEVENT
END:VCALENDAR
