BEGIN:VCALENDAR
VERSION:2.0
CALSCALE:GREGORIAN
PRODID:-//Diputació de Barcelona//DibaCMS//EN
BEGIN:VEVENT
UID:4672
DTSTAMP:20260420T024058
DTSTART:20191007T190000
DTEND:20191007T203000
SUMMARY:Xerrada sobre Salut Mental 
LOCATION:
METHOD:PUBLISH
X-WR-CALNAME:capellades@capellades.cat
X-WR-TIMEZONE:Europe/Madrid
DESCRIPTION:Aquest mes d'octubre la biblioteca El Safareig se suma a la commemoració del Dia de la Salut Mental.

URI:https://www.capellades.cat/actualitat/agenda/xerrada-sobre-salut-mental-.html
CLASS:PUBLIC
END:VEVENT
END:VCALENDAR
