BEGIN:VCALENDAR
VERSION:2.0
CALSCALE:GREGORIAN
PRODID:-//Diputació de Barcelona//DibaCMS//EN
BEGIN:VEVENT
UID:4670
DTSTAMP:20260419T142205
DTSTART:20191005T190000
DTEND:20191005T200000
SUMMARY:Entrega de premis del Concurs fotogràfic de la Festa Major
LOCATION:
METHOD:PUBLISH
X-WR-CALNAME:capellades@capellades.cat
X-WR-TIMEZONE:Europe/Madrid
DESCRIPTION:L'Agrupació fotogràfica Capellades ha organitzat per tercer any el Concurs Fotogràfic de la Festa Major.

URI:https://www.capellades.cat/actualitat/agenda/entrega-de-premis-del-concurs-fotografic-de-la-festa-major.html
CLASS:PUBLIC
END:VEVENT
END:VCALENDAR
