BEGIN:VCALENDAR
VERSION:2.0
CALSCALE:GREGORIAN
PRODID:-//Diputació de Barcelona//DibaCMS//EN
BEGIN:VEVENT
UID:4669
DTSTAMP:20260420T073606
DTSTART:20191004T193000
DTEND:20191004T210000
SUMMARY:Projecció del documental "Un home millor"
LOCATION:
METHOD:PUBLISH
X-WR-CALNAME:capellades@capellades.cat
X-WR-TIMEZONE:Europe/Madrid
DESCRIPTION:La Societat La Lliga proposa per al divendres 4 d'octubre la projecció, en versió original subtitulada en català, del documental "Un home millor".

URI:https://www.capellades.cat/actualitat/agenda/projeccio-del-documental-un-home-millor.html
CLASS:PUBLIC
END:VEVENT
END:VCALENDAR
