BEGIN:VCALENDAR
VERSION:2.0
CALSCALE:GREGORIAN
PRODID:-//Diputació de Barcelona//DibaCMS//EN
BEGIN:VEVENT
UID:4666
DTSTAMP:20260419T214547
DTSTART:20191003T173000
DTEND:20191017T183000
SUMMARY:Comença l'escola de bàsquet
LOCATION:
METHOD:PUBLISH
X-WR-CALNAME:capellades@capellades.cat
X-WR-TIMEZONE:Europe/Madrid
DESCRIPTION:La Unió Esportiva Capellades comença temporada esportiva amb nova Junta.

URI:https://www.capellades.cat/actualitat/agenda/comenca-lescola-de-basquet.html
CLASS:PUBLIC
END:VEVENT
END:VCALENDAR
