BEGIN:VCALENDAR
VERSION:2.0
CALSCALE:GREGORIAN
PRODID:-//Diputació de Barcelona//DibaCMS//EN
BEGIN:VEVENT
UID:4657
DTSTAMP:20260420T031853
DTSTART:20191011T210000
DTEND:20191011T235000
SUMMARY:Sopar 50è. aniversari Institut Molí de la Vila... Ajornat!!!
LOCATION:
METHOD:PUBLISH
X-WR-CALNAME:capellades@capellades.cat
X-WR-TIMEZONE:Europe/Madrid
DESCRIPTION:El sopar per celebrar els 50 anys de l'Institut Molí de la Vila s'ha ajornat per al divendres 15 de novembre.

URI:https://www.capellades.cat/actualitat/agenda/sopar-50e-aniversari-institut-moli-de-la-vila-ajornat.html
CLASS:PUBLIC
END:VEVENT
END:VCALENDAR
