BEGIN:VCALENDAR
VERSION:2.0
CALSCALE:GREGORIAN
PRODID:-//Diputació de Barcelona//DibaCMS//EN
BEGIN:VEVENT
UID:4645
DTSTAMP:20260420T072751
DTSTART:20190928T120000
DTEND:20190928T190000
SUMMARY:Festa celebració 25 anys del Jaç Roig
LOCATION:
METHOD:PUBLISH
X-WR-CALNAME:capellades@capellades.cat
X-WR-TIMEZONE:Europe/Madrid
DESCRIPTION:Bastoners de Capellades organitza la festa de celebració del 25è. aniversari del Jaç Roig.

URI:https://www.capellades.cat/actualitat/agenda/festa-celebracio-25-anys-del-jac-roig.html
CLASS:PUBLIC
END:VEVENT
END:VCALENDAR
