BEGIN:VCALENDAR
VERSION:2.0
CALSCALE:GREGORIAN
PRODID:-//Diputació de Barcelona//DibaCMS//EN
BEGIN:VEVENT
UID:4634
DTSTAMP:20260421T101707
DTSTART:20190919T180000
DTEND:20190919T200000
SUMMARY:Bingo a Cal Ponet
LOCATION:
METHOD:PUBLISH
X-WR-CALNAME:capellades@capellades.cat
X-WR-TIMEZONE:Europe/Madrid
DESCRIPTION:Comença el curs a Cal Ponet recuperant el Bingo del tercer dijous de mes.

URI:https://www.capellades.cat/actualitat/agenda/4634-bingo-a-cal-ponet.html
CLASS:PUBLIC
END:VEVENT
END:VCALENDAR
