BEGIN:VCALENDAR
VERSION:2.0
CALSCALE:GREGORIAN
PRODID:-//Diputació de Barcelona//DibaCMS//EN
BEGIN:VEVENT
UID:4626
DTSTAMP:20260419T164953
DTSTART:20190910T210000
DTEND:20190911T000000
SUMMARY:Suspès l'acte del Bivac nocturn per previsió de pluja
LOCATION:
METHOD:PUBLISH
X-WR-CALNAME:capellades@capellades.cat
X-WR-TIMEZONE:Europe/Madrid
DESCRIPTION:L’Entitat AEMdeKP havia de participar a l’acte d'aquesta nit, del 10 a l’11 de setembre, «Llum i Llibertat». 

URI:https://www.capellades.cat/actualitat/agenda/suspes-lacte-del-bivac-nocturn-per-previsio-de-pluja.html
CLASS:PUBLIC
END:VEVENT
END:VCALENDAR
