BEGIN:VCALENDAR
VERSION:2.0
CALSCALE:GREGORIAN
PRODID:-//Diputació de Barcelona//DibaCMS//EN
BEGIN:VEVENT
UID:4625
DTSTAMP:20260420T055428
DTSTART:20190910T210000
DTEND:20190910T220000
SUMMARY:Marxa de Torxes
LOCATION:
METHOD:PUBLISH
X-WR-CALNAME:capellades@capellades.cat
X-WR-TIMEZONE:Europe/Madrid
DESCRIPTION:Nova edició de la Marxa de Torxes a Capellades per a la vesprada del 10 de setembre.

URI:https://www.capellades.cat/actualitat/agenda/marxa-de-torxes.html
CLASS:PUBLIC
END:VEVENT
END:VCALENDAR
