BEGIN:VCALENDAR
VERSION:2.0
CALSCALE:GREGORIAN
PRODID:-//Diputació de Barcelona//DibaCMS//EN
BEGIN:VEVENT
UID:4623
DTSTAMP:20260419T165328
DTSTART:20190907T200000
DTEND:20190907T210000
SUMMARY:Presentació de la 10ena. Cursa del Neandertal 
LOCATION:
METHOD:PUBLISH
X-WR-CALNAME:capellades@capellades.cat
X-WR-TIMEZONE:Europe/Madrid
DESCRIPTION:Aquest dissabte a les 8 del vespre es farà la presentació de la 10ena. edició de la Cursa Neandertal de Capellades.

URI:https://www.capellades.cat/actualitat/agenda/presentacio-de-la-10ena-cursa-del-neandertal-.html
CLASS:PUBLIC
END:VEVENT
END:VCALENDAR
