BEGIN:VCALENDAR
VERSION:2.0
CALSCALE:GREGORIAN
PRODID:-//Diputació de Barcelona//DibaCMS//EN
BEGIN:VEVENT
UID:4621
DTSTAMP:20260419T182312
DTSTART:20190919T190000
DTEND:20190919T200000
SUMMARY:Club de Lectura
LOCATION:
METHOD:PUBLISH
X-WR-CALNAME:capellades@capellades.cat
X-WR-TIMEZONE:Europe/Madrid
DESCRIPTION:Comença el curs també per al Club de Lectura de la Biblioteca El Safareig.

URI:https://www.capellades.cat/actualitat/agenda/4621-club-de-lectura.html
CLASS:PUBLIC
END:VEVENT
END:VCALENDAR
