BEGIN:VCALENDAR
VERSION:2.0
CALSCALE:GREGORIAN
PRODID:-//Diputació de Barcelona//DibaCMS//EN
BEGIN:VEVENT
UID:4616
DTSTAMP:20260420T091439
DTSTART:20190926T193000
DTEND:20190926T203000
SUMMARY:Xerrada sobre com Viure amb l'Alzheimer
LOCATION:
METHOD:PUBLISH
X-WR-CALNAME:capellades@capellades.cat
X-WR-TIMEZONE:Europe/Madrid
DESCRIPTION:Nova xerrada del CAP Capellades a La Lliga.

URI:https://www.capellades.cat/actualitat/agenda/xerrada-sobre-com-viure-amb-lalzheimer.html
CLASS:PUBLIC
END:VEVENT
END:VCALENDAR
