BEGIN:VCALENDAR
VERSION:2.0
CALSCALE:GREGORIAN
PRODID:-//Diputació de Barcelona//DibaCMS//EN
BEGIN:VEVENT
UID:4610
DTSTAMP:20260420T023945
DTSTART:20190913T193000
DTEND:20190913T203000
SUMMARY:Trobada poètica
LOCATION:
METHOD:PUBLISH
X-WR-CALNAME:capellades@capellades.cat
X-WR-TIMEZONE:Europe/Madrid
DESCRIPTION:La trobada poètica del mes de setembre estarà dedicada a Àngel Guimerà.

URI:https://www.capellades.cat/actualitat/agenda/4610-trobada-poetica.html
CLASS:PUBLIC
END:VEVENT
END:VCALENDAR
