BEGIN:VCALENDAR
VERSION:2.0
CALSCALE:GREGORIAN
PRODID:-//Diputació de Barcelona//DibaCMS//EN
BEGIN:VEVENT
UID:4605
DTSTAMP:20260422T162044
DTSTART:20190902T000000
DTEND:20190906T000000
SUMMARY:Patina i passa-t'ho bé
LOCATION:
METHOD:PUBLISH
X-WR-CALNAME:capellades@capellades.cat
X-WR-TIMEZONE:Europe/Madrid
DESCRIPTION:Aquesta primera setmana de setembre es farà una nova edició del Patina i passa-t'ho bé.

URI:https://www.capellades.cat/actualitat/agenda/4605-patina-i-passa-tho-be.html
CLASS:PUBLIC
END:VEVENT
END:VCALENDAR
