BEGIN:VCALENDAR
VERSION:2.0
CALSCALE:GREGORIAN
PRODID:-//Diputació de Barcelona//DibaCMS//EN
BEGIN:VEVENT
UID:4603
DTSTAMP:20260419T232649
DTSTART:20190902T000000
DTEND:20190930T000000
SUMMARY:Festa aniversari nascuts el 1954
LOCATION:
METHOD:PUBLISH
X-WR-CALNAME:capellades@capellades.cat
X-WR-TIMEZONE:Europe/Madrid
DESCRIPTION:S'està organitzant una festa per celebrar els 65 anys de les persones capelladines que van néixer l'any 1954.

URI:https://www.capellades.cat/actualitat/agenda/festa-aniversari-nascuts-el-1954.html
CLASS:PUBLIC
END:VEVENT
END:VCALENDAR
