BEGIN:VCALENDAR
VERSION:2.0
CALSCALE:GREGORIAN
PRODID:-//Diputació de Barcelona//DibaCMS//EN
BEGIN:VEVENT
UID:4586
DTSTAMP:20260421T132928
DTSTART:20190814T213000
DTEND:20190814T220000
SUMMARY:Avui es el Correfoc
LOCATION:
METHOD:PUBLISH
X-WR-CALNAME:capellades@capellades.cat
X-WR-TIMEZONE:Europe/Madrid
DESCRIPTION:Avui és el Correfoc de Capellades, organitzat des de Dimonis amb la col·laboració de l'Ajuntament.

URI:https://www.capellades.cat/actualitat/agenda/avui-es-el-correfoc.html
CLASS:PUBLIC
END:VEVENT
END:VCALENDAR
