BEGIN:VCALENDAR
VERSION:2.0
CALSCALE:GREGORIAN
PRODID:-//Diputació de Barcelona//DibaCMS//EN
BEGIN:VEVENT
UID:4574
DTSTAMP:20260421T155937
DTSTART:20190812T203000
DTEND:20190812T213000
SUMMARY:Correfoc infantil
LOCATION:
METHOD:PUBLISH
X-WR-CALNAME:capellades@capellades.cat
X-WR-TIMEZONE:Europe/Madrid
DESCRIPTION:Dimonis de Capellades recupera aquest any el Correfoc Infantil.

URI:https://www.capellades.cat/actualitat/agenda/correfoc-infantil.html
CLASS:PUBLIC
END:VEVENT
END:VCALENDAR
